BEGIN:VCALENDAR
VERSION:2.0
PRODID:icalendar-ruby
CALSCALE:GREGORIAN
METHOD:PUBLISH
BEGIN:VEVENT
DTSTAMP:20260422T083921Z
UID:136-328428@bethanylutheranboone.com
DTSTART:20261102T190000Z
DTEND:20261102T200000Z
CLASS:PUBLIC
CREATED:20260421T200347
DESCRIPTION:
LAST-MODIFIED:20260421T200347
LOCATION:
SUMMARY:Chair Yoga
URL;VALUE=URI:https://bethanylutheranboone.com/events/chair-yoga/2026-11-02
END:VEVENT
END:VCALENDAR
