BEGIN:VCALENDAR
VERSION:2.0
PRODID:icalendar-ruby
CALSCALE:GREGORIAN
METHOD:PUBLISH
BEGIN:VEVENT
DTSTAMP:20260422T053759Z
UID:136-328426@bethanylutheranboone.com
DTSTART:20261019T180000Z
DTEND:20261019T190000Z
CLASS:PUBLIC
CREATED:20260421T200347
DESCRIPTION:
LAST-MODIFIED:20260421T200347
LOCATION:
SUMMARY:Chair Yoga
URL;VALUE=URI:https://bethanylutheranboone.com/events/chair-yoga/2026-10-19
END:VEVENT
END:VCALENDAR
